BEGIN:VCALENDAR
VERSION:2.0
PRODID:-//Compass Auctions and Real Estate - ECPv6.0.10//NONSGML v1.0//EN
CALSCALE:GREGORIAN
METHOD:PUBLISH
X-WR-CALNAME:Compass Auctions and Real Estate
X-ORIGINAL-URL:https://www.soldoncompass.com
X-WR-CALDESC:Events for Compass Auctions and Real Estate
REFRESH-INTERVAL;VALUE=DURATION:PT1H
X-Robots-Tag:noindex
X-PUBLISHED-TTL:PT1H
BEGIN:VTIMEZONE
TZID:America/New_York
BEGIN:DAYLIGHT
TZOFFSETFROM:-0500
TZOFFSETTO:-0400
TZNAME:EDT
DTSTART:20200308T070000
END:DAYLIGHT
BEGIN:STANDARD
TZOFFSETFROM:-0400
TZOFFSETTO:-0500
TZNAME:EST
DTSTART:20201101T060000
END:STANDARD
END:VTIMEZONE
BEGIN:VEVENT
DTSTART;VALUE=DATE:20200626
DTEND;VALUE=DATE:20200627
DTSTAMP:20260424T055758
CREATED:20200609T192323Z
LAST-MODIFIED:20200617T120556Z
UID:10000080-1593129600-1593215999@www.soldoncompass.com
SUMMARY:IT Equipment and Municipal Surplus
DESCRIPTION:Catalog & Registration\n			\n				Contact Us to Consign\n			\n			 \n				\n				\n				\n				\n				\n				Welcome to our June IT Equipment and Municipal Surplus Auction. This is an ONLINE ONLY Auction. This event will feature a fantastic selection of IT and electronic items: -Panasonic ToughBooks -Getac ToughBooks -Dell Monitors\, CPUs\, and Laptops -Acer Monitors -HP Monitors (some “New”) -All in one CPU Monitor PC -Laptop charging docks -Lenovo CPU’s -Dell PowerVault -Dell PowerEdge -Smart UPS -Dell Servers -Server Cabinets -Brocade\, Cisco Switches -Wireless Access Points and MORE! More items arriving daily! Additional lots will be added so keep checking back for new items. Questions please email Info@soldoncompass.com or call 800-729-6466. \nPre-Bidding Opens 6/19/2020 @ 10:00 am ET. Bidding Begins Closing 6/26/2020 Starting @ 10:00 am ET. \nConsignments are always welcome. Call 800-729-6466or email Info@SoldonCompass.com \n			 \n				\n				\n					\n					\n					\n				\n				3-panasonic toughbooks\n				\n					\n					\n					\n				\n				743-Aerohive Wireless\n				\n					\n					\n					\n				\n				739-Aerohive Wireless\n				\n					\n					\n					\n				\n				734-Verizon MiFi Packs\n				\n					\n					\n					\n				\n				731-Lenovo Pro Docks\n				\n					\n					\n					\n				\n				729-portable gas monitor\n				\n					\n					\n					\n				\n				728-cameras cassettes\n				\n					\n					\n					\n				\n				727-surveillance equipment\n				\n					\n					\n					\n				\n				726-Receiver Transmitter\n				\n					\n					\n					\n				\n				721-TTI Citation 24\n				\n					\n					\n					\n				\n				720-dell projector\n				\n					\n					\n					\n				\n				703-cordless keyboards\n				\n					\n					\n					\n				\n				701-security cameras\n				\n					\n					\n					\n				\n				700a-surveillance\n				\n					\n					\n					\n				\n				609-printer folder sealer\n				\n					\n					\n					\n				\n				605-Hp printers\n				\n					\n					\n					\n				\n				604-portable zebra printers\n				\n					\n					\n					\n				\n				600-zebra label printer\n				\n					\n					\n					\n				\n				599-wasp label printer\n				\n					\n					\n					\n				\n				525-cisco ASA\n				\n					\n					\n					\n				\n				522-dell and cisco\n				\n					\n					\n					\n				\n				521-Fortinet FortiGate\n				\n					\n					\n					\n				\n				519-Cisco Systems\n				\n					\n					\n					\n				\n				518-Cisco Catalyst\n				\n					\n					\n					\n				\n				517-Cisco Catalyst\n				\n					\n					\n					\n				\n				516-brocade ICX\n				\n					\n					\n					\n				\n				515-brocade ICX\n				\n					\n					\n					\n				\n				509-brocade ICX\n				\n					\n					\n					\n				\n				507-brocade ICX\n				\n					\n					\n					\n				\n				502-brocade ICX\n				\n					\n					\n					\n				\n				500-brocade ICX\n				\n					\n					\n					\n				\n				401-dell rolling server cabinet\n				\n					\n					\n					\n				\n				400-dell rolling server cabinet\n				\n					\n					\n					\n				\n				351-keyboard montor server drawers\n				\n					\n					\n					\n				\n				350-networking consoles\n				\n					\n					\n					\n				\n				320-tripp-lite\n				\n					\n					\n					\n				\n				316-PowerEdges w DVR rack\n				\n					\n					\n					\n				\n				307-APC smartUPs\n				\n					\n					\n					\n				\n				305-dell powerVault\n				\n					\n					\n					\n				\n				303-dell powerEdge\n				\n					\n					\n					\n				\n				302-dell powerEdge\n				\n					\n					\n					\n				\n				301-dell powerEdge\n				\n					\n					\n					\n				\n				300-dell powervault\n				\n					\n					\n					\n				\n				288-CPU stands -keyboard stand\n				\n					\n					\n					\n				\n				287-assorted CPUs\n				\n					\n					\n					\n				\n				286-cpu parts\n				\n					\n					\n					\n				\n				281-dell CPUs\n				\n					\n					\n					\n				\n				277-dell CPUs\n				\n					\n					\n					\n				\n				259-assorted CPUs\n				\n					\n					\n					\n				\n				248-dell CPUs\n				\n					\n					\n					\n				\n				242-dell CPUs\n				\n					\n					\n					\n				\n				240-dell CPUs\n				\n					\n					\n					\n				\n				237b-dell charging docks\n				\n					\n					\n					\n				\n				237-assorted laptops\n				\n					\n					\n					\n				\n				229-assorted laptops\n				\n					\n					\n					\n				\n				227-assorted toughbooks\n				\n					\n					\n					\n				\n				202-pansonic toughbooks\n				\n					\n					\n					\n				\n				62-monitor w cpu mount\n				\n					\n					\n					\n				\n				60-monitors w CPUs\n				\n					\n					\n					\n				\n				59b-monitors\n				\n					\n					\n					\n				\n				52-HP monitors\n				\n					\n					\n					\n				\n				23-acer monitors\n				\n					\n					\n					\n				\n				18-dell monitors\n				\n					\n					\n					\n				\n				14-dell monitors\n				\n					\n					\n					\n				\n				4-getac toughbooks
URL:https://www.soldoncompass.com/auction/it-equipment-and-municipal-surplus/
LOCATION:3114 Freeman Ave\, Chattanooga\, TN\, 37406\, United States
CATEGORIES:Auctions
ATTACH;FMTTYPE=image/jpeg:https://www.soldoncompass.com/wp-content/uploads/2020/06/06262020_A319_preview-sbs-01-scaled.jpg
ORGANIZER;CN="Compass%20Auctions-Contact":MAILTO:info@soldoncompass.com
GEO:35.0775348;-85.2593921
X-APPLE-STRUCTURED-LOCATION;VALUE=URI;X-ADDRESS=3114 Freeman Ave Chattanooga TN 37406 United States;X-APPLE-RADIUS=500;X-TITLE=3114 Freeman Ave:geo:-85.2593921,35.0775348
END:VEVENT
END:VCALENDAR